BEGIN:VCALENDAR
VERSION:2.0
PRODID:-//ZContent.net//ZapCalLib 1.0//EN
CALSCALE:GREGORIAN
METHOD:PUBLISH
BEGIN:VEVENT
DTSTART:20250902T180000
DTEND:20260313T180000
SUMMARY;CHARSET=UTF-8:Zero Carbon Management
URL:https://www.sfg.at/e/zero-carbon-management/
DESCRIPTION;CHARSET=UTF-8:\nQuerschnittswissen zu Dekarbonisierung\, Energi
 e\, MobilitÃ¤t grÃ¼ne Produktion &amp\; nachhaltige GebÃ¤ude\n\nQualifizie
 ren Sie sich im Bereich Klimaschutz und erhalten Sie ein Zertifikat\, das 
 Ihre Kompetenzen im Bereich der Dekarbonisierung belegt!\nViele Unternehme
 n haben schon einzelne MaÃŸnahmen fÃ¼r mehr Nachhaltigkeit gesetzt\, aber 
 es fehlt ihnen der Ãœberblick sowie eine laufende Klimabilanzierung. DarÃ¼
 ber hinaus wurde der Fokus bisher oft auf Energie\, aber nicht auf Klima (
 Stichwort â€žgrÃ¼ne Lieferketteâ€œ) gelegt.\nIn dieser Weiterbildung erwer
 ben Sie grundlegendes (Querschnitts-)Wissen zum Nachhaltigkeitsmanagement 
 und in den fÃ¼r die Dekarbonisierung von Unternehmen relevanten Handlungsf
 eldern wie Energie und grÃ¼ne Produktion\, nachhaltige GebÃ¤ude und betrie
 bliche MobilitÃ¤t.\n&nbsp\;\nAlsÂ zertifizierte*r Zero Carbon Manager*inÂ 
 sind Sie in der Lage\, Unternehmen und Organisationen dabei zu unterstÃ¼tz
 en\, ihreÂ Nachhaltigkeitsleistung zu verbessern und Dekarbonisierungsstra
 tegien zu planenÂ und umzusetzen.\n&nbsp\;\nDieser Kurs umfasstÂ 5 Module 
 mit je 5 ECTS. Zur Erreichung desÂ Certificate of Advanced Studies in Zero
  Carbon ManagementÂ derÂ TU GrazÂ mussÂ ein Pflichtmodul und 2 WahlmoduleÂ
  abgeschlossen werden.\n&nbsp\;\nInhalt\nDer UniversitÃ¤tskurs Zero Carbon
  Management besteht aus insgesamt 3 Modulen. Das Modul Dekarbonisierung un
 d Nachhaltigkeitsmanagement ist ein Pflichtmodul\, 2 weitere Module kÃ¶nne
 n Sie je nach Ihren BedÃ¼rfnissen und Interessen frei wÃ¤hlen.\n&nbsp\;\nP
 flichtmodul:\nDekarbonisierung und Nachhaltigkeitsmanagement (Sustainabili
 ty Management &amp\; Systems)\n&nbsp\;\nWahlmodule:\nWÃ¤hlen SieÂ 2Â fÃ¼r 
 Sie relevanteÂ ModuleÂ aus. Klicken Sie auf den Link und erfahren Sie mehr
  zu den spezifischen Inhalten.\nEnergy &amp\; Green Production I (System S
 olutions for Industry\, Energy Efficiency)\nEnergy &amp\; Green Production
  II (New Processes\, Biorefinery\, Green Hydrogen)\nCorporate Mobility (Te
 chnologies\, Management of Sustainable Corporate Mobility)\nSustainable Bu
 ildings\n&nbsp\;\nDetails zu denÂ Inhalten im Curriculum\n&nbsp\;\nZiele\n
 \nKenntnisse der grundlegendenÂ Prinzipien der Nachhaltigkeit: Sie versteh
 en die grundlegenden Konzepte und Prinzipien der Nachhaltigkeit und sind i
 n der Lage\, diese in verschiedenen GeschÃ¤ftsbereichen und Industrien anz
 uwenden.\nFÃ¤higkeiten zurÂ Identifizierung von Nachhaltigkeitsproblemen: 
 Sie sind in der Lage\, Nachhaltigkeitsprobleme zu identifizieren und zu be
 werten\, die sich auf die Umwelt\, die Gesellschaft und das Unternehmen au
 swirken.\nKenntnisse der relevantenÂ Gesetzgebung: Sie sind mit den einsch
 lÃ¤gigen nationalen und internationalen Gesetzen und Vorschriften im Zusam
 menhang mit Nachhaltigkeit vertraut.\nFÃ¤higkeit zurÂ Erstellung von Nachh
 altigkeitsberichten: Sie sind in der Lage\, Nachhaltigkeitsberichte zu ers
 tellen und Informationen zur Nachhaltigkeit zu sammeln\, zu analysieren un
 d zu prÃ¤sentieren.\nKenntnisse derÂ Corporate Social Responsibility (CSR)
 : Sie verstehen die Konzepte und Prinzipien der CSR und wissen\, wie man d
 iese in einer Organisation umsetzt.\nFÃ¤higkeit zurÂ Umsetzung von Nachhal
 tigkeitsstrategien: Sie sind in der Lage\, Nachhaltigkeitsstrategien in Un
 ternehmen und Organisationen umzusetzen und Prozesse zur Ãœberwachung und 
 Messung von Nachhaltigkeitsleistungen zu etablieren.\nKommunikationsfÃ¤hig
 keiten: Sie kÃ¶nnen ihre Nachhaltigkeitsstrategien effektiv kommunizieren 
 und mit verschiedenen Interessengruppen innerhalb und auÃŸerhalb des Unter
 nehmens zusammenarbeiten.\nProjektmanagement-FÃ¤higkeiten: Sie sind in der
  Lage\, Nachhaltigkeitsprojekte zu planen\, zu organisieren und zu managen
 \, um sicherzustellen\, dass sie innerhalb des Zeitrahmens und Budgets abg
 eschlossen werden.\nFÃ¼hrungsqualitÃ¤ten: Sie kÃ¶nnen als FÃ¼hrungskraft a
 gieren und das Nachhaltigkeitsbewusstsein in einer Organisation stÃ¤rken.\
 n\n
LOCATION;CHARSET=UTF-8:Technische UnvierstÃ¤t Graz\; \nStremayrgasse 16\, E
 rdgeschoÃŸ\, 8010 Graz\; \nOnline &amp\; PrÃ¤senz
END:VEVENT
END:VCALENDAR
