BEGIN:VCALENDAR
VERSION:2.0
PRODID:-//ZContent.net//ZapCalLib 1.0//EN
CALSCALE:GREGORIAN
METHOD:PUBLISH
BEGIN:VEVENT
DTSTART:20251027T090000
DTEND:20251027T120000
SUMMARY;CHARSET=UTF-8:Workshop: Branding
URL:https://www.sfg.at/e/workshop-branding/
DESCRIPTION;CHARSET=UTF-8:Sei das WoW. Mehr Klarheit fĂĽr Ihr Branding gefĂ
 ¤llig?\nGemeinsam mit Margarita Gressl tauchen wir ein in die Welt von Pos
 itionierung\, MarkenidentitĂ¤t und Sichtbarkeit. Im Workshop arbeiten Sie 
 hands-on an Ihren konkreten Praxisfragen â€“ egal ob Sie gerade grĂĽnden\,
  rebranden oder Ihr bestehendes Markenbild schĂ¤rfen wollen.\n\nMargarita 
 Gressl ist Kommunikations- und Brandingexpertin\, die mit ihrem Unternehme
 nÂ BrainwaveÂ seit 2016 Unternehmen dabei unterstĂĽtzt besser sichtbar zu 
 werden. Erst vor kurzem hat sie mit dem Buch &#8222\;Sei das WoW!&#8220\; 
 einen Personal Branding Guide fĂĽr SelbststĂ¤ndige verĂ¶ffentlicht.\nđź’ˇ 
 Was sind Ihre grĂ¶Ăźten Baustellen? Wo brauchen Sie Klarheit oder neue Imp
 ulse? Gemeinsam mit Margarita Gressl arbeiten Sie im Workshop an Ihren kon
 kreten Praxisfragen rund um das Thema Positionierung und Sichtbarkeit.\nDa
 mit Margarita Gressl gezielt auf Ihre Situation eingehen kann\, teilen Sie
  Ihr bei der Anmeldung gerne mit\, was Ihre wichtigsten Herausforderungen 
 im Branding sind.\n
LOCATION;CHARSET=UTF-8:Unicorn Graz\, Conference Deck\; \nSchubertstraĂźe 6
 a\, 8010 Graz
END:VEVENT
END:VCALENDAR
