BEGIN:VCALENDAR
VERSION:2.0
PRODID:-//ZContent.net//ZapCalLib 1.0//EN
CALSCALE:GREGORIAN
METHOD:PUBLISH
BEGIN:VEVENT
DTSTART:20231013T100000
DTEND:20231013T110000
SUMMARY;CHARSET=UTF-8:Webinar: Cybersicherheit fÃ¼r Unternehmen: Strategien
  und bewÃ¤hrte Praktiken
URL:https://www.sfg.at/e/webinar-cybersicherheit-fuer-unternehmen-strategie
 n-und-bewaehrte-praktiken/
DESCRIPTION;CHARSET=UTF-8:\nSind Sie bereit\, Ihr Unternehmen vor den stÃ¤n
 dig wachsenden Bedrohungen der digitalen Welt zu schÃ¼tzen? \n\nIn der heu
 tigen digitalen Ã„ra ist die Sicherheit Ihres Unternehmens von entscheiden
 der Bedeutung. Daher organisiert die Steirische WirtschaftsfÃ¶rderung SFG 
 in Kooperation mit dem DIH SÃ¼d und der FH Joanneum dieses kostenfreie Web
 inar zum Thema IT-Sicherheit.\nWarum sollten Sie sich fÃ¼r dieses Webinar 
 anmelden? Weil Sieâ€¦\n-Wissenswertes zu den aktuellen Cyber-Bedrohungen h
 Ã¶ren werden. Das wird Ihnen helfen einzuschÃ¤tzen\, wie gefÃ¤hrdet Ihr Un
 ternehmen wirklich ist.\nâ€¦erfahren werden\, wie Sie Gefahrenquellen in E
 -Mails und auf Webseiten erkennen und vermeiden kÃ¶nnen. Damit schieben Si
 e der Mehrzahl an Angriffen von vornherein einen Riegel vor.\nâ€¦selbst ni
 cht nur oft das Einfallstor fÃ¼r Cyber-Attacken sind\, sondern weil Sie au
 ch die Person sind\, die Ihr Unternehmen am besten davor bewahren kann.\nâ
 €¦mehr darÃ¼ber hÃ¶ren werden\, wie die SFG Sie beim Schutz Ihres Unterneh
 mens finanziell unterstÃ¼tzen kann.\nMelden Sie sich noch heute an und mac
 hen Sie sich fit\, Ihr Unternehmen vor digitalen Bedrohungen zu schÃ¼tzen.
 \nDie Teilnahme an diesem Webinar ist kostenfrei\, aber die Erkenntnisse s
 ind unbezahlbar. Sichern Sie sich jetzt Ihren Platz\, da die Teilnehmerzah
 l begrenzt ist.\n&nbsp\;\n
LOCATION;CHARSET=UTF-8:ZOOM - Webinar\; \n
END:VEVENT
END:VCALENDAR
