BEGIN:VCALENDAR
VERSION:2.0
PRODID:-//ZContent.net//ZapCalLib 1.0//EN
CALSCALE:GREGORIAN
METHOD:PUBLISH
BEGIN:VEVENT
DTSTART:20250424T180000
DTEND:20250424T200000
SUMMARY;CHARSET=UTF-8:Unternehmenskrisen meistern: Führen in turbulenten Z
 eiten
URL:https://www.sfg.at/e/unternehmenskrisen-meistern-fuehren-in-turbulenten
 -zeiten/
DESCRIPTION;CHARSET=UTF-8:Wie ManagerInnen & Führungskräfte in ihre Kraft
  zum Entscheiden kommen\nWerden auch Sie Krisen-FIT!\n\nWenn Turbulenzen d
 as Management ins Wanken bringen\, dann ist akutes Handeln angesagt!\nIm g
 emütlichen Rahmen werden Speaker und Top Manager über persönliche Krise
 n und Turbulenzen in Unternehmen sprechen und erzählen\, wie sie diese ge
 löst haben.\nDanach kommt Josef Leschanz-Knapp alias „Jolek“ auf die 
 Bühne. Er ist Kabarettist &amp\; Verhandlungsexperte. Seine heitere Perfo
 rmance: „Scheitern für Fortgeschrittene – Wie man Verhandlungen mit S
 til in den Misserfolg führt“\nIm anschließenden World Café tauschen S
 ie sich in Gruppen mit kompetenten KollegInnen über praktische Lösungsan
 sätze aus. Eine angenehme Atmosphäre mit Getränken und schmackhaften Es
 sen ermöglicht Ihnen ein gemütliches Netzwerken.\nDie Business- und Even
 t-Moderatorin Chiara Reßmann führt Sie durch den Abend.\nUnsere starken 
 Krisen-Fit Partner / Sponsoren:\n\nACstyria\nBusiness Monat Steiermark\nVo
 lksbank Steiermark\nJaufer Rechtsanwälte\nDieSaremas\nAndritz Hydro\nHern
 stein Institut\nSOT Wirtschaftsprüfer\nKSV – Kreditschutzverband\nSpeci
 alis IT\n\n
LOCATION;CHARSET=UTF-8:Lendhafen\; \nLendkai 170\, 8010 Graz
END:VEVENT
END:VCALENDAR
