BEGIN:VCALENDAR
VERSION:2.0
PRODID:-//ZContent.net//ZapCalLib 1.0//EN
CALSCALE:GREGORIAN
METHOD:PUBLISH
BEGIN:VEVENT
DTSTART:20220425T090000
DTEND:20220427T170000
SUMMARY;CHARSET=UTF-8:Tooling 2022
URL:https://www.sfg.at/e/tooling-2022/
DESCRIPTION;CHARSET=UTF-8:12th Tooling Conference &amp\; Exhibition\nKonfer
 enz\n\nK1-MET GmbH nimmt mit einem Beitrag an der Konferenz teil:\n&#8211\
 ; Effect of the slag composition on the process behavior\, energy consumpt
 ion and non-metallic inclusions   during electro-slag-remelting\, Vortra
 g von Valentin Wiesinger\, B. Sc. (Co-Autoren u.a. R. Schneider\, Fachhoch
 schule OÖ Campus Wels)\n
LOCATION;CHARSET=UTF-8:Conventum Conference Center\; \nFabriksgatan 17\, 70
 222 Örebro\, Schweden
END:VEVENT
END:VCALENDAR
