BEGIN:VCALENDAR
VERSION:2.0
PRODID:-//ZContent.net//ZapCalLib 1.0//EN
CALSCALE:GREGORIAN
METHOD:PUBLISH
BEGIN:VEVENT
DTSTART:20201028T030000
DTEND:20201028T050000
SUMMARY;CHARSET=UTF-8:Summer Academy Session: Data Analytics and AI in Life
  Sciences and Pharmaceutical industry
URL:https://www.sfg.at/e/summer-academy-session-data-analytics-and-ai-in-li
 fe-sciences-and-pharmaceutical-industry/
DESCRIPTION;CHARSET=UTF-8:Data Analytics and AI in Life Sciences and Pharma
 ceutical industry\nThe Life Sciences industry is entering a phase of radic
 al change. Technology-driven trends powered by data and AI are transformin
 g healthcare delivery to increase value. In this sense\, data acts as an e
 nabler to connect science and technology in a meaningful way\, empowering 
 patients and encouraging collaboration between participating parties. \n\
 nData Analytics and AI in Life Sciences and Pharmaceutical industry\n\n28.
 10.2020 15:00 &#8211\; 17:00 | Language: English | Register free of charge
  for session\n\n\nTarget group:\nPeople who are interested in the topic\, 
 researchers and practitioners\nAbstract:\nThe Life Sciences industry is en
 tering a phase of radical change. Technology-driven trends powered by data
  and AI are transforming healthcare delivery to increase value. In this se
 nse\, data acts as an enabler to connect science and technology in a meani
 ngful way\, empowering patients and encouraging collaboration between part
 icipating parties. Organizations\, driven by a patient-centric approach\,
  aim to become data-driven. Implementing solutions based on data increases
  their capability to further enhance their value propositions through impr
 oving therapy outcomes\, reducing time to market for new therapies\, optim
 izing business operations (quality by design)\, driving clinical innovatio
 n and facilitating security and as well as regulatory compliance. During t
 his webinar\, the Know Center team will introduce the latest data analytic
 s and AI technologies and related use cases selected from meetings and int
 erviews with Life Sciences researchers and practitioners.\nAfter the event
  you will know:\n\n\n\nFundamentals of some of the more prominent data ana
 lytics and AI technologies\n\n\n\n\n\n\nOpportunities and challenges of ap
 plying these data analytics technologies in the Life Sciences and Pharmace
 utical industry\n\n\n\n\nSpeaker\n\n\n\n\n\nDavid Garcia\n\n\n\n\n
LOCATION;CHARSET=UTF-8:
END:VEVENT
END:VCALENDAR
