BEGIN:VCALENDAR
VERSION:2.0
PRODID:-//ZContent.net//ZapCalLib 1.0//EN
CALSCALE:GREGORIAN
METHOD:PUBLISH
BEGIN:VEVENT
DTSTART:20240830T120000
DTEND:20240830T153000
SUMMARY;CHARSET=UTF-8:Skillupclass Internationalisierung | Lange Nacht der 
 JW
URL:https://www.sfg.at/e/skillupclass-internationalisierung-lange-nacht-der
 -jw/
DESCRIPTION;CHARSET=UTF-8:\nAnlÃ¤sslich des JubilÃ¤ums der JUNGEN WIRTSCHAF
 T STEIERMARK wird das Programm der diesjÃ¤hrigen Langen Nacht der Jungen W
 irtschaft um SkillUpClasses erweitert.\n\n\nAls dynamische Jungunternehmer
 :in reizt es Dich\, Deine Produkte und Dienstleistungen auch im Ausland zu
 Â vermarkten?\nWie kannst du Dich optimal auf einen internationalen Markt 
 und neue Kund:innen im AuslandÂ vorbereiten?\nDu mÃ¶chtest wissen\, welche
 Â FÃ¶rderungenÂ und UnterstÃ¼tzungsleistungen es fÃ¼r euch gibt?\n\nIn uns
 erem Workshop erhÃ¤ltst du Antworten auf diese\, und viele weitere Fragen!
  NÃ¼tze diese einmalige Gelegenheit\, die wichtigstenÂ Doâ€™s &amp\; Donâ€
 ™ts des internationalen MarkteintrittesÂ kennenzulernen\, entdeckeÂ Chance
 nÂ undÂ Herausforderungen\, die euch auf globalen MÃ¤rkten erwarten und er
 fahre\, wo ihr wertvollenÂ SupportÂ findet â€“ von professionellenÂ Beratu
 ngenÂ bis hin zu attraktiven FÃ¶rdermÃ¶glichkeiten. Bereite dich optimal a
 uf den globalen Erfolg vor und erweitere deinÂ NetzwerkÂ und deinen untern
 ehmerischen Horizont. Jetzt anmelden und von Expert:innenwissen profitiere
 n!\nMaximal 20 Teilnehmer:innen\, first come\, first served.\n
LOCATION;CHARSET=UTF-8:Lendhafen Graz\; \nLendkai 17 (Mariahilferplatz)\, 8
 020 Graz
END:VEVENT
END:VCALENDAR
