BEGIN:VCALENDAR
VERSION:2.0
PRODID:-//ZContent.net//ZapCalLib 1.0//EN
CALSCALE:GREGORIAN
METHOD:PUBLISH
BEGIN:VEVENT
DTSTART:20240321T093000
DTEND:20240321T143000
SUMMARY;CHARSET=UTF-8:Ride into the future – Styria to the Southeast USA
URL:https://www.sfg.at/e/ride-into-the-future-styria-to-the-southeast-usa/
DESCRIPTION;CHARSET=UTF-8:\nMobility Roadshow @ Graz\n\nDer Südosten der U
 SA hat sich in den letzten Jahren zum Mobility-Hotspot für Foreign Direct
  Investments (FDI) mittelständischer Unternehmen aus dem DACH-Raum und zu
  einer der wichtigsten Drehscheiben für Produktion\, Industrie und Gewerb
 e für heimische und internationale Unternehmen entwickelt.New Players im 
 Bereich Elektroautoherstellung wie Scout (South Carolina) und Rivian (Geor
 gia) bauen neue Produktionsstätten im Südosten und schließen sich den g
 roßen OEMs in der Region an. Zu den Vorteilen der Region gehören ein zun
 ehmender Trend in der Automobilforschung und -entwicklung\, niedrigere Ene
 rgiekosten und ein günstiges Arbeitskräfte- und Steuerumfeld. Landesweit
 e Steueranreize für Investitionen\, die unter das Bipartisan Infrastructu
 re Law (BIL) und den Inflation Reduction Act (IRA) fallen\, verstärken da
 s Versprechen des Südostens als „Future Mobility Region“. Dies öffne
 t Türen für neue Zulieferer\, insbesondere für europäische Firmen\, di
 e in der Region investieren wollen.\nIn Kooperation mit dem WKÖ Außenwi
 rtschaftscenter New York und dem US Commercial Service laden wir Sie zu
 r USA-Mobility Roadshow „Ride into the future – Styria to the Southeas
 t USA“ ein! Es erwarten Sie top-aktuelle Insights zu innovativen Mobilit
 ätsprojekten und Geschäftschancen in der Region und Anreizen für auslä
 ndische Unternehmen. US-Expert:innen teilen ihr Know-How zum erfolgreichen
  Markteinstieg und den wichtigsten Schritten bei ersten Geschäften in den
  USA sowie dem Marktausbau vor Ort.\nZielgruppe: Unternehmen der Mobilit
 äts- und Fertigungsindustrie\, die in den USA tätig werden möchten und/
 oder bestehende Aktivitäten ausbauen.\nIm Anschluss an die Impulsstatemen
 ts haben Sie die Möglichkeit individuelle Beratungsgespräche bei den 
 Expert:innen zu buchen (bitte kontaktieren Sie hierfür Alexandra Kohrgru
 ber: ak@ic-steiermark.at) und sich im informellen Networking mit den ande
 ren Teilnehmer:innen auszutauschen.\n&nbsp\;\n
LOCATION;CHARSET=UTF-8:WKO Steiermark\; \nKörblergasse 111-113\,  Graz\; \
 nEuropasaal Teil B | EG
END:VEVENT
END:VCALENDAR
