BEGIN:VCALENDAR
VERSION:2.0
PRODID:-//ZContent.net//ZapCalLib 1.0//EN
CALSCALE:GREGORIAN
METHOD:PUBLISH
BEGIN:VEVENT
DTSTART:20260224T130000
DTEND:20260224T170000
SUMMARY;CHARSET=UTF-8:Python kompakt: EinfÃ¼hrung fÃ¼r Einsteiger:innen
URL:https://www.sfg.at/e/python-kompakt-einfuehrung-fuer-einsteigerinnen/
DESCRIPTION;CHARSET=UTF-8:\nKennenlernen von Python als Werkzeug fÃ¼r Daten
 analyse\, Automatisierung oder erste KI-Anwendungen\n\nPython ist heute di
 e meistgenutzte Programmiersprache im Bereich Data Science\, Machine Learn
 ing und Automatisierung. Durch ihre einfache Syntax und die Vielzahl verfÃ
 ¼gbarer Bibliotheken ist sie sowohl fÃ¼r Einsteiger als auch fÃ¼r erfahren
 e Entwickler attraktiv.\nDieser Kurs richtet sich an Teilnehmerinnen und T
 eilnehmer ohne oder mit geringen Programmierkenntnissen\, die Python als W
 erkzeug fÃ¼r Datenanalyse\, Automatisierung oder erste KI-Anwendungen kenn
 enlernen mÃ¶chten. Schritt fÃ¼r Schritt werden die Grundlagen der Sprache 
 vermittelt: von den ersten Programmen Ã¼ber den Umgang mit Datentypen bis 
 hin zum Arbeiten mit Daten.\nInhalt\n&#8211\; EinfÃ¼hrung: Was ist Python\
 , wofÃ¼r wird es eingesetzt?\n&#8211\; Ãœberblick Ã¼ber die Python-Umgebun
 g: Jupyter Notebook\, IDEs\, Pakete\n&#8211\; Erste Schritte: Variablen\, 
 Datentypen\, Operatoren\n&#8211\; Kontrollstrukturen: Schleifen\, Bedingun
 gen\, Funktionen\n&#8211\; Arbeiten mit Listen\, Dictionaries und Arrays\n
 &#8211\; EinfÃ¼hrung in Bibliotheken fÃ¼r Datenanalyse (pandas\, matplotli
 b)\n&#8211\; Erste einfache Datenanalysen und Visualisierungen\n&#8211\; K
 leine praktische Ãœbung mit einem Beispiel-Datensatz\nZiele\nNach dem Work
 shop sollten die Teilnehmerinnen und Teilnehmer:\n&#8211\; grundlegende Ko
 nzepte der Programmiersprache Python verstehen\,\n&#8211\; kleine Programm
 e eigenstÃ¤ndig schreiben\,\n&#8211\; mit typischen Datentypen und Struktu
 ren (Listen\, Dictionaries\, DataFrames) umgehen\,\n&#8211\; erste Datenan
 alysen mit pandas durchfÃ¼hren und Ergebnisse visualisieren.\n
LOCATION;CHARSET=UTF-8:Online &amp\; PrÃ¤senz\; \nEckertstraÃŸe 30i\, 8020 
 Graz
END:VEVENT
END:VCALENDAR
