BEGIN:VCALENDAR
VERSION:2.0
PRODID:-//ZContent.net//ZapCalLib 1.0//EN
CALSCALE:GREGORIAN
METHOD:PUBLISH
BEGIN:VEVENT
DTSTART:20250306T164500
DTEND:20250306T190000
SUMMARY;CHARSET=UTF-8:Patentrezepte: KamingesprÃ¤ch â€“ IP im Daily Busines
 s Tag 1
URL:https://www.sfg.at/e/patentrezepte-kamingespraech-ip-im-daily-business-
 tag-1/
DESCRIPTION;CHARSET=UTF-8:KamingesprÃ¤ch - IP im Daily Business Tag 1\nLice
 nsing Executives Society Austria\, IPNovation und die Kanzlei Schwarz &amp
 \; Partner in Zusammenarbeit mit der Steirischen WirtschaftsfÃ¶rderung (SF
 G) laden Sie herzlich ein\, bei einem gemÃ¼tlichen KamingesprÃ¤ch IP im Da
 ily Business zu besprechen.Â Erhalten Sie spannende Einblicke und praxisna
 he Erfahrungen aus Sicht von KMU\, GroÃŸunternehmen\, Startups und Univers
 itÃ¤ten.\n\nIP im Daily Business â€“ Wissen schÃ¼tzen\, Innovation fÃ¶rder
 n\, Wettbewerbsvorteil nachhaltig sichern\nImmer wieder berichten Medien Ã
 ¼ber Intellectual Property (IP)\, Patente\, Trademarks und VorfÃ¤lle wie P
 atentverletzungen oder Begriffe wie â€žPatent-Trollâ€œ. Doch wie sieht es 
 wirklich in der Praxis aus? Wie handhaben Unternehmen und UniversitÃ¤ten t
 atsÃ¤chlich den Umgang mit geistigem Eigentum? Welche Herausforderungen mu
 ssten sie meistern\, welche Erfolge haben sie erzielt? Wie ist IP in ihre 
 Organisationen integriert? Und vor allem: Was sind erfolgreiche Rezepte\, 
 worauf kommt es besonders an?\nErhalten Sie spannende Einblicke und praxis
 nahe Erfahrungen aus erster Hand! In Zusammenarbeit mit der Steirischen Wi
 rtschaftsfÃ¶rderung (SFG) laden die Licensing Executives Society Austria\,
  dieÂ Kanzlei Schwarz &amp\; Partner und IPnovation zu einem besonderen Ka
 mingesprÃ¤ch ein. Im Spannungsfeld zwischen Start-ups\, KMUs\, GroÃŸuntern
 ehmen und UniversitÃ¤ten diskutieren:\n\nMario Fallast (GrÃ¼nder des Start
 -ups smaXtec\, Leiter des Programms â€žScience Fitâ€œ an der TU Graz)\nMic
 hael Felbinger (CEO IPNovation\, Senior Patent Searcher &amp\; Analyst)\nG
 ernot Grober (Head of IP bei AT&amp\;S\, Lektor an der TU Wien)\nAntonia R
 iva-Frizberg (Co-CEO &amp\; Founder Lumetry Diagnostics GmbH)\nTorsten Ull
 rich (Leitung Forschungskoordination Center fÃ¼r Data Driven Design\, Frau
 nhofer Austria Research GmbH)\n\nNutzen Sie die Gelegenheit eines aktiven 
 Wissensaustausches mit Experten und anschlieÃŸendem Networking und knÃ¼pfe
 n Sie wertvolle Kontakte.\nDie Teilnahme ist kostenlos\, eine verbindliche
  Anmeldung ist jedoch unbedingt erforderlich.\nTeil 1 der Veranstaltungsre
 ihe ist Geistiges Eigentum in Theorie und Praxis und findet vor dem Kaming
 esprÃ¤ch statt. Am darauffolgenden Tag bieten wir einen Patentrecherche-Wo
 rkshop (Tag 2) an. Sie kÃ¶nnen sich\n\nnur fÃ¼r das KamingesprÃ¤ch anmelde
 n\noder nur fÃ¼r Teil 1 Geistiges Eigentum in Theorie und Praxis \noder nu
 r fÃ¼r den Patentrecherche-Workshop (Tag 2) am Fr\, 07.03.2025\noder fÃ¼r 
 die ganze Reihe bzw. eine andere Kombination aus diesen drei Events.\n\nBi
 tte fÃ¼r alle Events getrennt anmelden!\n&nbsp\;\n\n
LOCATION;CHARSET=UTF-8:Lokal LÃ¶ffel.Liebe\; \nReininghausstraÃŸe 13a\, 802
 0 Graz
END:VEVENT
END:VCALENDAR
