BEGIN:VCALENDAR
VERSION:2.0
PRODID:-//ZContent.net//ZapCalLib 1.0//EN
CALSCALE:GREGORIAN
METHOD:PUBLISH
BEGIN:VEVENT
DTSTART:20250307T080000
DTEND:20250307T140000
SUMMARY;CHARSET=UTF-8:Patentrezepte für Unternehmen: Patentrecherche-Works
 hop Tag 2
URL:https://www.sfg.at/e/patentrezepte-fuer-unternehmen-patentrecherche-wor
 kshop-tag-2/
DESCRIPTION;CHARSET=UTF-8:Patentrecherche Workshop\nAuch heuer bieten wir a
 nschließend zum Info-Event am 06. März 2025 (Teil 1) für eine begrenzte
  TeilnehmerInnenzahl einen Patentrecherche-Workshop an.\n\nAnhand praxisbe
 zogener Beispiele lernen Sie\, in unterschiedlichen gebührenfreien Patent
 -Datenbanken zu recherchieren. Für diesen Workshop bitte unbedingt einen 
 Laptop mitbringen! Die Anmeldung erfolgt auf einer „first come\, first s
 erved“ Basis.\nDieser Workshop ist Teil 2 der Veranstaltungsreihe Geisti
 ges Eigentum in Theorie und Praxis. Er wird in Zusammenarbeit mit dem öst
 erreichischen Patentamt organisiert und ist für Sie kostenlos\, eine verb
 indliche Anmeldung ist jedoch unbedingt erforderlich.\nTeil 1 der Reihe fi
 ndet am 06.03.2025 statt und umfasst ein Info-Event: Patentrezepte für Un
 ternehmen. Nach dem Info-Event laden Licensing Executives Society Austria\
 , die Kanzlei Schwarz &amp\; Partner und IPNovation in Zusammenarbeit mit 
 der Steirischen Wirtschaftsförderung (SFG) Sie herzlich zu einem Kaminges
 präch unter dem Motto IP im Daily Business – Wissen schützen\, Innovat
 ion fördern\, Wettbewerbsvorteil nachhaltig sichern.\nSie können sich\n\
 nnur für diesen Tag (Teil 2) anmelden oder\nnur für das Info-Event (Teil
  1) am 06.03.2025 oder\nnur für das Kamingespräch (Tag 1)\noder für die
  ganze Reihe bzw. eine andere Kombination aus diesen drei Events.\n\nBitte
  für alle Events getrennt anmelden!\nAgenda_Patentrecherche in der Praxis
 _07März.pdf\n\n
LOCATION;CHARSET=UTF-8:Smart Business Center\; \n Reininghausstraße 13\, 8
 020 Graz
END:VEVENT
END:VCALENDAR
