BEGIN:VCALENDAR
VERSION:2.0
PRODID:-//ZContent.net//ZapCalLib 1.0//EN
CALSCALE:GREGORIAN
METHOD:PUBLISH
BEGIN:VEVENT
DTSTART:20250306T083000
DTEND:20250306T164500
SUMMARY;CHARSET=UTF-8:Patentrezepte für Unternehmen: Info-Event Tag 1
URL:https://www.sfg.at/e/patentrezepte-fuer-unternehmen-info-event-tag-1/
DESCRIPTION;CHARSET=UTF-8:Patentrezepte für Unternehmen: Teil 1\nUnternehm
 erischer Erfolg beruht auf einer Kombination aus guten Ideen\, Fleiß und 
 einer Portion Glück. Zu Ihrem Glück und Ihrem Fleiß können wir von der
  Steirischen Wirtschaftsförderung nicht viel beitragen. Aber wir können 
 Ihnen helfen\, Ihre guten Ideen optimal zu schützen!\n\nDer Weg von der e
 rsten Idee bis zum erworbenen Schutzrecht braucht viel Zeit und Wissen. Di
 e Basis für dieses Wissen haben wir für Sie in einem Info-Event verpackt
 :\n\nWann brauche ich ein Patent?\nGibt es Alternativen zu Patenten?\nWas 
 ist wann zu tun\, wenn ich eine Idee habe\, die ich schützen möchte?\nUn
 d woher weiß ich\, ob diese Idee überhaupt schützenswert ist?\nWo bekom
 me ich Hilfe? Wen kann ich um Rat fragen?\nKann ich dafür auch Förderung
 en bekommen?\n\nDas Info-Event wird in Zusammenarbeit mit der AWS\, dem ö
 sterreichischen Patentamt\, der Licensing Executives Society Austria (LES)
 \, der Kanzlei Schwarz &amp\; Partner und der IPNovation organisiert und i
 st für Sie kostenlos. Eine verbindliche Anmeldung ist jedoch unbedingt er
 forderlich.\nTeil 1 der Veranstaltungsreihe ist Geistiges Eigentum in Theo
 rie und Praxis. Nach dem Info-Event laden LES\, IPNovation und die Kanzlei
  Schwarz &amp\; Partner zusammen mit der SFG Sie herzlich zu einem Kaminge
 spräch unter dem Motto IP im Daily Business – Wissen schützen\, Innova
 tion fördern\, Wettbewerbsvorteil nachhaltig sichern (bitte um getrennte 
 Anmeldung). Am darauffolgenden Tag bieten wir einen Patentrecherche-Worksh
 op (Tag 2) an. Sie können sich\n\nnur für das Info-Event anmelden (Tag 1
 ) oder\nnur für das Kamingespräch (Tag 1) oder\nnur für den Patentreche
 rche-Workshop am Fr\, 07.032025 (Tag 2) oder\nfür die ganze Reihe bzw. ei
 ne andere Kombination aus diesen drei Events anmelden.\n\nBitte für alle 
 Events getrennt anmelden!\nAgenda_Patentrezepte für Unternehmen_06März.p
 df\n&nbsp\;\n\n
LOCATION;CHARSET=UTF-8:Smart Business Center\; \nReininghausstraße 13\, 80
 20 Graz
END:VEVENT
END:VCALENDAR
