BEGIN:VCALENDAR
VERSION:2.0
PRODID:-//ZContent.net//ZapCalLib 1.0//EN
CALSCALE:GREGORIAN
METHOD:PUBLISH
BEGIN:VEVENT
DTSTART:20230606T170000
DTEND:20230606T190000
SUMMARY;CHARSET=UTF-8:MitarbeiterInnen finden und Förderungen sichern
URL:https://www.sfg.at/e/mitarbeiterinnen-finden-und-foerderungen-sichern/
DESCRIPTION;CHARSET=UTF-8:MitarbeiterInnen finden\, Förderungen sichern!\n
 Business-Talk für UnternehmerInnen\n\nDas Hauptaugenmerk dieser Veranstal
 tung liegt nicht nur auf der Findung und Bindung von MitarbeiterInnen\, so
 ndern liefert auch alle wichtigen Informationen zu den neuesten Förderung
 en. Erfahren Sie den effizienten Weg zur Beantragung von Förderungen und 
 wie Sie Ihr Unternehmen optimal positionieren können\, um von diesen Maß
 nahmen zu profitieren.\nUnsere Expertinnen und Experten vor Ort:\n\nMartin
  Buchsbaum\, SFG: Neueste Förderungen der SFG\nHerbert Purkarthofer\, WKO
 : Der effiziente Weg zur Förderung\nSimone Pfeiffer\, WKO und Anton Schul
 ler\, WRHB: Initiativen zur regionalen Talentsuche\n\n
LOCATION;CHARSET=UTF-8:Autohaus BMW Harmtodt\; \n8232  Grafendorf
END:VEVENT
END:VCALENDAR
