BEGIN:VCALENDAR
VERSION:2.0
PRODID:-//ZContent.net//ZapCalLib 1.0//EN
CALSCALE:GREGORIAN
METHOD:PUBLISH
BEGIN:VEVENT
DTSTART:20240606T130000
DTEND:20240606T180000
SUMMARY;CHARSET=UTF-8:Light up the Alps 2024
URL:https://www.sfg.at/e/light-up-the-alps-2/
DESCRIPTION;CHARSET=UTF-8:Light up the Alps\nLIGHT UP THE ALPS\n\nProgramm\
 n\n13.00 Uhr | Begrüßung &amp\; Eröffnung\n\nModeration | Elisabeth Ber
 ghold\, SILICON ALPS\nBegrüßung | DI Dr. Robert Gfrerer\, CEO\, SILICON 
 ALPS &amp\; Mag. Markus Hornböck\, Geschäftsführer\, BABEG\n\n\n13.10 U
 hr | Keynote | Thomas Zergoi\, Teamleiter Internationale Programme\, FFG\n
 \nZukünftige Entwicklungen &amp\; Chancen im Europäischen Forschungsraum
 \n\n13.40 Uhr | SAC Insights | Robert Gfrerer\, CEO\, SILICON ALPS\n14.00 
 Uhr | Areas of Excellence: Status Quo &amp\; Ausblick\, Marketplace\n\nCyb
 er Security  | Power Electronics Smart | RFID &amp\; WIoT | Sensor Syste
 ms\n\n15:10 Uhr | Pause\n15:25 Uhr | Wrap Up Marketplace Areas of Excellen
 ce\n15:45 Uhr | Success Stories\n\nSURE5.0 | Ralph Weissnegger\, Director 
 Innovation and Funding\, CISC Semiconductor\nPeak Performer Kärnten | Car
 o Frank\, Sustainability Officer\, Ortner Cleanroom Engineering\nPeak Perf
 ormer Steiermark | Mario Gschwandl\, Geschäftsfeldleiter Technologie\, Ot
 tronic\nEurocluster | Lena Franke\, Legal/BO/HR/Project Management\, ARTI-
 Robots\nTRANSFORM | Michael Hrobath\, Director Operations\, T.I.P.S\n\n\n1
 6.05 Uhr | Marketplace Strategic Deep Dive\n\nQuick Wins für KMU &#8211\;
  7 Schritte zur Nachhaltigkeit\nAT-C³ &#8211\; Austrian Competence Center
  for Chips\nAI &#8211\; Qualifizierungscamp\nEBS &amp\; Mobility\n\n\n16.3
 0 Uhr | Wrap Up &amp\; Ausblick | Robert Gfrerer\, SILICON ALPS\n16.45 Uhr
  | Networking BBQ\n\n
LOCATION;CHARSET=UTF-8:Lakeside Spitz Veranstaltungszentrum Klagenfurt\; \n
 B11\, Lakeside\,  Klagenfurt
END:VEVENT
END:VCALENDAR
