BEGIN:VCALENDAR
VERSION:2.0
PRODID:-//ZContent.net//ZapCalLib 1.0//EN
CALSCALE:GREGORIAN
METHOD:PUBLISH
BEGIN:VEVENT
DTSTART:20210622T150000
DTEND:20210622T170000
SUMMARY;CHARSET=UTF-8:Kreislaufwirtschaft: Wie industrielle Holznebenproduk
 te neue Anwendung finden!
URL:https://www.sfg.at/e/kreislaufwirtschaft-wie-industrielle-holznebenprod
 ukte-neue-anwendung-finden/
DESCRIPTION;CHARSET=UTF-8:\nHolz und die daraus verarbeiteten Produkte als 
 dauerhafter CO2-Speicher sind ein entscheidender Faktor für aktiven Klima
 schutz. Doch auch Biomassereste und Abfälle aus der industriellen Verarbe
 itung können durch Karbonisierung zu Pflanzenkohle unter anderem die Ener
 gieeffizienz eines Betriebes auf ein neues Level heben – und vor allem\,
  zum Rohstoff für viele weitere Wirtschaftszweige werden – alles im Sin
 ne der Kreislaufwirtschaft.\n\nInhalt:\nPflanzenkohle ist eine bestimmte F
 orm von Kohlenstoff: Sie ist eine feste\, chemisch abbau-resistente Form d
 ie aus der Karbonisierung von Biomasse (die Umwandlung in stabilen Kohlens
 toff) hervorgeht. Sie wurde in der zweiten Hälfte des zwanzigsten Jahrhun
 derts in der berühmten „terra preta do indios – der Schwarzen Erde de
 s Amazonasgebiets“ wiederentdeckt und wissenschaftlich genauestens unter
 sucht.\nAus gutem Grund: Sie besitzt eine Vielzahl bemerkenswerter Eigensc
 haften\, die für viele verschiedene Dienstleistungen und Produkte einges
 etzt werden können. Zudem tragen letztendlich fast alle zur Wiederherstel
 lung des Gleichgewichts des atmosphärischen Kohlenstoffs und zur Verbesse
 rung des Zustands der Ökosysteme bei. Zahlreiche Wirtschaftszweige\, von 
 der Landwirtschaft über die Bauwirtschaft bis hin zu modernsten Hightechp
 rodukten können vom Rohstoff Pflanzenkohle profitieren und dabei nicht nu
 r klimaneutral\, sondern CO2- negativ werden.\nProgramm:\n\n\n\n15:00 Uhr\
 nAnkommen\n\n\n15:10 Uhr\nBegrüßung\n\n\n15:20 Uhr\nEigenschaften und He
 rstellungsverfahren von Pflanzenkohle / Gerhard Soja\n\n\n15:40 Uhr\nEinsa
 tzmöglichkeiten und Businessmodell / Torsten Becker\n\n\n16:00 Uhr\nDisku
 ssion und Ideengenerierung zu Anwendungen von Pflanzenkohle\n\n\n16:30 Uhr
 \nAusklang am Buffet\n\n\n\nIhr Nutzen:\nLernen Sie eine alternative Weite
 rverwertung ihrer Reststoffe kennen\, die neben der Energieerzeugung auch 
 einen neuen spannenden Rohstoff für ihre Produkte liefert. Erfahren Sie v
 on Experten über die Eigenschaften der Pflanzenkohle\, den Einfluss der P
 rozessbedingungen und lassen Sie sich durch die vielfältigen Einsatzmögl
 ichkeiten dieses neuartigen Rohstoffs inspirieren.\nVortragende:\nGerhard 
 Soja / ÖBIKA – Österreichischer Verein für Biomasse-Karbonisierung\nT
 orsten Becker / carbonauten GmbH\nKontakt:\nHolzcluster Steiermark GmbH\nD
 I Robert Pirker\nTel.:  +43 316 – 58 78 50 – 215\,\nE-Mail:  pirker@
 holzcluster-steiermark.at\n
LOCATION;CHARSET=UTF-8:Lendhafen\; \nLendkai 17\, \, 8010  Graz
END:VEVENT
END:VCALENDAR
