BEGIN:VCALENDAR
VERSION:2.0
PRODID:-//ZContent.net//ZapCalLib 1.0//EN
CALSCALE:GREGORIAN
METHOD:PUBLISH
BEGIN:VEVENT
DTSTART:20231017T103000
DTEND:20231017T143000
SUMMARY;CHARSET=UTF-8:KI Potentiale in der Tourismusbranche â€“ Innovations
 motor KÃ¼nstliche Intelligenz
URL:https://www.sfg.at/e/ki-potentiale-in-der-tourismusbranche-innovationsm
 otor-kuenstliche-intelligenz-3/
DESCRIPTION;CHARSET=UTF-8:\nInnovationsworkshop zur Identifikation von KI-A
 nwendungsmÃ¶glichkeiten fÃ¼r Betriebe in der Tourismusbranche\n\nIm Worksh
 op &#8222\;KI-Anwendungen in der Tourismusbranche&#8220\; erhalten die tei
 lnehmen Unternehmen einen fundierten Ãœberblick zur KI-Technologie und der
 en AnwendungsmÃ¶glichkeiten innerhalb â€“ und auÃŸerhalb â€“ der Tourismus
 - und Gastronomiebranche.\nBeispielsweise kann Kundenkommunikation aus E-M
 ails oder anderen Medien analysiert werden und Aussagen Ã¼ber Kundenzufrie
 denheit und deren Zusammenhang mit anderen Faktoren wie Wetter\, Buchungsl
 age oder Vermittler (zB ReisebÃ¼ro) getÃ¤tigt werden.Andere MÃ¶glichkeiten
  wie Auslastungsoptimierungen oder Verbesserung von logistischen Prozessen
  sind ebenfalls AnwendungsfÃ¤lle die in anderen Branchen bereits zum Einsa
 tz kommen und in der Tourismus â€“ und Gastronomiebranche adaptiert umgese
 tzt werden kÃ¶nnten.\nNeben theoretischem Input wird anhand von Praxisanwe
 ndungen erklÃ¤rt\, wie Potenziale zum Einsatz von KI im eigenen Unternehme
 n ermittelt und umgesetzt werde kÃ¶nnen. Die Vorstellung von KI-Zukunftstr
 ends und Tools runden den Workshop ab.\nDer Halbtagesworkshop bietet Hotel
 - und Gastronomiebetrieben einen Einblick in die Welt der kÃ¼nstlichen Int
 elligenz (KI). Man erfÃ¤hrt\, was kÃ¼nstliche Intelligenz ist\, was sie ka
 nn und wie man sie im eigenen Betrieb sinnvoll einsetzt\n\nKI-TechnologieÃ
 ¼berblick und Vorstellung der MÃ¶glichkeiten von KI\nVorstellung von KI-An
 wendungen in Form von Best Practice Beispielen in der Tourismusbranche\nEi
 nfÃ¼hrung in Vorgehensweise zur Erstellung von KI-Use-Cases im eigenen Bet
 rieb/Unternehmen\n\n
LOCATION;CHARSET=UTF-8:online\; \n
END:VEVENT
END:VCALENDAR
