BEGIN:VCALENDAR
VERSION:2.0
PRODID:-//ZContent.net//ZapCalLib 1.0//EN
CALSCALE:GREGORIAN
METHOD:PUBLISH
BEGIN:VEVENT
DTSTART:20240205T090000
DTEND:20240205T113000
SUMMARY;CHARSET=UTF-8:KI für Handel – Einführung und Anwendungsbeispiel
 e
URL:https://www.sfg.at/e/ki-fuer-handel-einfuehrung-und-anwendungsbeispiele
 /
DESCRIPTION;CHARSET=UTF-8:\nEinführung in die KI\, Live Demos\, Chancen &a
 mp\; Risiken\, Anwendungsbeispiele Handel\n\nKünstliche Intelligenz (KI) 
 ist ein schnell wachsender Bereich\, der die Art und Weise\, wie wir leben
  und arbeiten\, verändert. Im Workshop werden zunächst grundlegende Konz
 epte aus der KI erklärt. Ein Fokus liegt dabei auf generativer KI\, also 
 Neuronalen Netzen die Text\, Bilder etc. erzeugen kann. Sehr populär sind
  hierbei Large Language Modelle (z.B. ChatGPT)\, da sie sehr viele Anwendu
 ngen haben (wie die Erstellung von Texten\, Zusammenfassung von Texten ode
 r Übersetzung).\nIm Rahmen von Live Demos wird der Einsatz von KI Verfahr
 en in der Praxis demonstriert\, wie zum Beispiel die interaktive Diskussio
 n mit einem KI Chatbot und die KI-basierte Erzeugung von Bildern aus einer
  Textbeschreibung.\nDer Einsatz von KI bringt trotz aller Chancen auch Pro
 bleme und Risiken mit sich. Wir werden einige typische Probleme beim Einsa
 tz von KI vorstellen. Einige typische Probleme sind zum Beispiel Bias (zum
  Beispiel ein Chatbot der bestimmte Personengruppen bevorzugt)\, zu wenig 
 Daten für das Trainieren einer KI oder die fehlende Erklärbarkeit der Er
 gebnisse einer KI.\nWeiters werden Anwendungsbeispiele für KI aus dem Ber
 eich Handel präsentiert\, wie zum Beispiel personalisiertes Marketing und
  die Erstellung von Werbetexten und Graphiken.\nIm interaktiven Teil des W
 orkshops werden wir uns gemeinsam in einer Brainstorming-Runde über die E
 rwartungen der Teilnehmer an KI für den handel austauschen\, ihre Erfahru
 ngen beim Einsatz von KI im Unternehmen diskutieren und Problemstellungen 
 aus ihrem Betrieb analysieren\, die sie gerne mit individuellen KI-Lösung
 en adressieren würden.\nInhalt\n\nGrundlagen der KI\nLive Demos (KI Chatb
 ot\, KI-basierte Erzeugung von Bildern\, …)\nChancen und Risken von KI\n
 Anwendungsbeispiele aus dem Bereich Handel\nInteraktive Diskussion und Bra
 instorming-Runde\n\n&nbsp\;\nZiele\nDie teilnehmenden KMUs bekommen einen 
 ersten Einblick in die Welt der Künstlichen Intelligenz und welche Anwend
 ungen im Handel sie hat. Sie erhalten einen Einblick über die Grundlagen 
 der KI und dessen Chancen und Risken. Anhand der präsentierten KI Anwendu
 ngsfälle und der interaktiven Diskussion können Teilnehmer das Potential
  von KI für ihren Betrieb abschätzen.\n
LOCATION;CHARSET=UTF-8:Wirtschaftskammer Steiermark\, Business Lounge\; \nK
 örblergasse 111-113\, 8010 Graz
END:VEVENT
END:VCALENDAR
