BEGIN:VCALENDAR
VERSION:2.0
PRODID:-//ZContent.net//ZapCalLib 1.0//EN
CALSCALE:GREGORIAN
METHOD:PUBLISH
BEGIN:VEVENT
DTSTART:20201022T083000
DTEND:20201022T163000
SUMMARY;CHARSET=UTF-8:Ideas Factory
URL:https://www.sfg.at/e/ideas-factory/
DESCRIPTION;CHARSET=UTF-8:Von der Innovationsidee zum Zukunftskonzept\nIn d
 er BE-READI -  IDEAS FACTORY werden aus innovativen Ideen konkrete Zukunft
 skonzepte geschmiedet.\n\nDer online Fokustag behandelt die Vielfalt von 2
 nd Life Projekten\, mit denen reife Unternehmen den nächsten Schritt gehe
 n.\nIn einem kurzweiligen Mix aus Live Talks\, Experten Inputs\, Fach-Vide
 os und Success Stories finden Sie 101 Anregungen für Ihr eigenes 2nd Life
  Projekt.\nHaben Sie eine innovative Idee? Wollen Sie ein Second-Life Proj
 ekt starten?\nSammeln Sie am 22. Oktober 2020 Anregungen zu Innovation\, D
 igitalisierung\, Internationalisierung und Finanzierung. Oder nehmen Sie g
 leich jetzt Kontakt mit dem BE-READI Point Styria auf.\n
LOCATION;CHARSET=UTF-8:online\; \n
END:VEVENT
END:VCALENDAR
