BEGIN:VCALENDAR
VERSION:2.0
PRODID:-//ZContent.net//ZapCalLib 1.0//EN
CALSCALE:GREGORIAN
METHOD:PUBLISH
BEGIN:VEVENT
DTSTART:20211020T170000
DTEND:20211020T183000
SUMMARY;CHARSET=UTF-8:Healthcare & Ethics: Ethische Problemstellungen in AI
  Entwicklung und Datenmanagement
URL:https://www.sfg.at/e/healthcare-ethics-ethische-problemstellungen-in-ai
 -entwicklung-und-datenmanagement/
DESCRIPTION;CHARSET=UTF-8: Healthcare &amp\; Ethics in AI\n- Veranstaltungs
 reihe\nSession 3\nThema: Ethische Problemstellungen in AI Entwicklung und 
 Datenmanagement\nWieviel Kompetenzen benötigen Gesundheitsexpertinnen und
  Gesundheitsexperten in Zukunft im Bereich AI und was braucht es darüber 
 hinaus für ethisch-verantwortungsvolle AI Lösungen in der Zukunft? In de
 r Webinar-Serie werden Antworten auf diese Frage gegeben.\n\nZielgruppe: G
 esundheitsexpert*innen und Health-Tech Interessierte\nWir laden Sie herzli
 ch zur Challenge-basierten Webinar-Serie mit dem hochbrisanten Thema „He
 althcare &amp\; Ethics in AI“ ein! Ziel der Veranstaltung ist es\, die e
 thisch-verantwortungsvolle Nutzung von Künstlicher Intelligenz (Artificia
 l Intelligence\, kurz AI) im Rahmen des Gesundheitswesens aus verschiedene
 n disziplinären Perspektiven sowie aus Sicht der Patientinnen und Patient
 en zu diskutieren und zukünftige Entwicklungen aktiv mitzugestalten.\nIm 
 Rahmen der verschiedenen Herausforderungen (Challenges)\, wie beispielswei
 se „AI in der Ausbildung – Tiefe und Un- Tiefe?“ oder „Ethische Pr
 oblemstellungen bzw. Lösungsansätze in AI Entwicklung?“\, werden unter
 schiedliche Anwendung\, Ängste und Visionen in einem inklusiven und inter
 disziplinären Setting offen zur Diskussion gestellt.\nTeilnehmerinnen und
  Teilnehmer können mittels einem Audience Interaction Tool Fragen vor und
  während des Webinars einbringen und mitdiskutieren. In ca. 90-minütigen
  Online Sessions werden komplexe Themenfelder aus dem Bereich der Künstli
 chen Intelligenz einfach und in einer leicht zugänglichen Art und Weise v
 on jeweils zwei Expertinnen und Experten fachfremden Zielgruppen zugängli
 ch gemacht. Insgesamt 14 Wissenschaftlerinnen und Wissenschaftler aus Medi
 zin\, Technik und Ethik diskutieren mit Ihnen in sieben Seminaren.\nBitte 
 melden Sie sich für die gewünschte(n) Online-Session an.\n22. September 
 2021: Session 1 &#8211\; Thema: AI und Gesundheitsberufe von morgen – Wa
 s für spannende Anwendungen gibt es für AI und Gesundheitsberufe von mor
 gen?\n6. Oktober 2021: Session 2 &#8211\; Thema: AI in der Ausbildung – 
 Tiefe und Un- Tiefe\n20. Oktober 2021: Session 3 &#8211\; Thema: Ethische 
 Problemstellungen in AI Entwicklung und Datenmanagement.\n3. November 2021
 : Session 4 &#8211\; Thema: Praktische AI-Projekte und Interdisziplinäre 
 Zusammenarbeit.\n17. November 2021: Session 5 &#8211\; Thema: Wie muss AI 
 gestaltet sein\, um in medizinischen Lösungen einsetzbar zu sein?\n1. Dez
 ember 2021: Session 6 &#8211\; Thema: Rechtliche Implikationen in AI.\n15.
  Dezember 2021: Session 7 &#8211\; Thema: Bildungspolitische Implikationen
  und AI in Gesundheitswissenschaften &#8211\; Hybride Veranstaltung\nEgal 
 welche Perspektive Sie im Hinblick auf das Thema einnehmen\, Sie sind herz
 lich eingeladen\, ihr Wissen zu den Herausforderungen zu teilen\, diese zu
  konkretisieren und erste Lösungsansätze zu skizzieren.\nEine gemeinsame
  Veranstaltungsserie von FH JOANNEUM\, KNOW CENTER Graz\, TU GRAZ\, MED UN
 I GRAZ\, Med Uni Wien\, Human.technology Styria\, JOANNEUM Research\, VARI
 AN &amp\; Canon Medical Systems\n
LOCATION;CHARSET=UTF-8:online\; \n
END:VEVENT
END:VCALENDAR
