BEGIN:VCALENDAR
VERSION:2.0
PRODID:-//ZContent.net//ZapCalLib 1.0//EN
CALSCALE:GREGORIAN
METHOD:PUBLISH
BEGIN:VEVENT
DTSTART:20230627T083000
DTEND:20230627T130000
SUMMARY;CHARSET=UTF-8:EXPORT ACADEMY | USA Recht & Steuern
URL:https://www.sfg.at/e/export-academy-usa-recht-steuern/
DESCRIPTION;CHARSET=UTF-8:\nIn unserer Export Academy â€žUSA Recht &amp\; S
 teuernâ€œ am 27.06. widmen wir uns mit US-RechtsanwÃ¤ltin Daisy Birtalan u
 nd den Steuerberatern und WirtschaftsprÃ¼fern Stefan GrÃ¶ÃŸbacher und Matt
 hias Amberg den rechtlichen und steuerlichen Rahmenbedingungen in den USA.
 \n\nDie Teilnehmer:innen erwartet u.a.:\n&nbsp\;\n\nÃœberblick zum U.S. In
 flation Reduction Act &amp\; Buy American Act\nUnterschiede zwischen US-Am
 erikanischem und Ã–sterreichischem Recht in GesellschaftsgrÃ¼ndungen\, Ver
 tragsgestaltung\, Arbeitsrecht\nEinblick zu StandortfÃ¶rderungen\nUpdate z
 u Visa- und Einreisebestimmungen\nGrundlagen des U.S. Steuerrechts &#8211\
 ; steuerliche Risiken und Fallstricke\nÃœbersicht Entsendung von Mitarbeit
 ern in die USA\nuvm.\n\n&nbsp\;\nZielgruppe: Steirische Unternehmen\, die 
 bereits Erfahrung im US-GeschÃ¤fts gesammelt haben und ihre GeschÃ¤ftstÃ¤t
 igkeit vor Ort bzw. die US-MarkterschlieÃŸung systematischer aufstellen mÃ
 ¶chten.\nÂ \nVortragendeÂ \nDaisy Birtalan\nDaisy Birtalan\, Director of G
 erman Desk bei Moore &amp\; Van Allen PLLC (US-Anwaltskanzlei in Charlotte
 \, NC und Charleston\, SC)\, nutzt ihren Ã¶sterreichischen Hintergrund und
  Ã¼ber 20 jÃ¤hrige Berufserfahrung als Ã¶sterreichische und als US-AnwÃ¤lt
 in\, um Ã¶sterreichiche Firmen bei der Erschliessung des US-Amerikanischen
  Marktes zu unterstÃ¼tzen. Â Ihr Schwerpunkt liegt bei NeugrÃ¼ndungen von 
 Tochtergesellschaften Ã¶sterreichischer Unternehmen in den USA\, M&amp\;A-
 Transaktionen\, Greenfield-Investitionen\, und UnterstÃ¼tzung bei wirtscha
 ftlichen Anreizen mit Standortentwicklungsmassnahmen zu erwirken. Sie ist 
 die erste Anlaufstelle fÃ¼r Kunden aus Ã–sterreich und arbeitet mit fast 4
 00 spezialisierten AnwÃ¤lten von Moore &amp\; Van Allen in einem breiten S
 pektrum von Rechtsgebieten.\n&nbsp\;\nStefan GrÃ¶ÃŸbacher\nStefan GrÃ¶ÃŸba
 cher ist Associate Partner\, Â Steuerberater und WirtschaftsprÃ¼fer bei RÃ
 ¶dl &amp\; Partner Chicago und betreut vorrangig Ã¶sterreichische Unterneh
 men vor Ort in den USA. Herr GrÃ¶ÃŸbacher besitzt langjÃ¤hrige Erfahrung i
 m Bereich der Steuerberatung und WirtschaftsprÃ¼fung in Ã–sterreich und de
 n USA und ist der Vertrauenssteuerberater der Advantage Austria USA.\n&nbs
 p\;\nMatthias Amberg\nMatthias Amberg ist Partner\, Steuerberater und Wirt
 schaftsprÃ¼fer bei RÃ¶dl &amp\; Partner Chicago und hat langjÃ¤hriger Erfa
 hrung in der Betreuung von Unternehmen aus dem D-A-CH Raum in den USA. Her
 r Amberg ist der derzeitige PrÃ¤sident der deutschen Handelskammer fÃ¼r de
 n mittleren Westen.\n&nbsp\;\nTIPP: Am 28.06. haben Sie die MÃ¶glichkeit\,
  im Rahmen des Wirtschaftsdelegierten-Sprechtages in der WKO Steiermark\, 
 individuelle BeratungsgesprÃ¤che mit den Wirtschaftsdelegierten in New Yor
 k und Los Angeles zu vereinbaren. NÃ¤here Informationen.\n
LOCATION;CHARSET=UTF-8:ICS Internationalisierungscenter Steiermark GmbH\; \
 nLindweg 33\, 8010 Graz
END:VEVENT
END:VCALENDAR
