BEGIN:VCALENDAR
VERSION:2.0
PRODID:-//ZContent.net//ZapCalLib 1.0//EN
CALSCALE:GREGORIAN
METHOD:PUBLISH
BEGIN:VEVENT
DTSTART:20201130
DTEND:20201202
SUMMARY;CHARSET=UTF-8:European Young Innovators Festival – Graz
URL:https://www.sfg.at/e/european-young-innovators-festival-graz/
DESCRIPTION;CHARSET=UTF-8:Digital. Purpose Driven. European.\nThe European 
 Young Innovators Festival brings together the pan-European community of yo
 ung innovators who use digital technology to achieve the UN SDGs. With the
  regional initiative of the European Young Innovators (EYI)\, WSA connects
  and highlights purpose driven digital entrepreneurship across Europe.\n\n
 Since many years\, Graz is hosting the Festival – the perfect festival l
 ocation with its universities\, the green tech cluster\, as city of human 
 rights and city of design – turning into a hub for social innovation\, e
 ntrepreneurship and European youth exchange.\nThis year\, Graz is the star
 ting point of a virtual journey across Europe. The EYI Festival will offe
 r a truly unique insight into young entrepreneurship from all over Europe\
 , the latest digital trends and international perspectives on innovation.\
 n&nbsp\;\nThe Festival program offers the pitches of the European Young 
 Innovators in front of an international jury\, knowledge and mentoring ses
 sions and an interactive workshop program.\nInternational speakers will d
 iscuss how digital entrepreneurs can help to tackle the global pandemic\, 
 the economic crises and other societal challenges of Europe – Climate ch
 ange\, the future of Social Entrepreneurship\, and Gaming for Good are onl
 y some of the highlights that will be discussed.\nThis Festival will not b
 e the usual online happening\, you will connect in interactive workshops\
 , One on One meetings and Ask me Anything sessions – register now and
  join the journey towards the future of the Europe that we want.\nDigital.
  Purpose Driven. European.\n
LOCATION;CHARSET=UTF-8:
END:VEVENT
END:VCALENDAR
