BEGIN:VCALENDAR
VERSION:2.0
PRODID:-//ZContent.net//ZapCalLib 1.0//EN
CALSCALE:GREGORIAN
METHOD:PUBLISH
BEGIN:VEVENT
DTSTART:20241111T160000
DTEND:20241111T180000
SUMMARY;CHARSET=UTF-8:ESG Reporting inklusive Best Practices
URL:https://www.sfg.at/e/esg-reporting-inklusive-best-practises/
DESCRIPTION;CHARSET=UTF-8:\nAus der Praxis â€“ fÃ¼r die Praxis: ESG Reporti
 ng im Ãœberblick\nFÃœR KMU KOSTENLOS!\n\nViele Unternehmen setzen sich sch
 on intensiv mit dem Thema des ESG Reportings auseinander. In dieser 2-stÃ¼
 ndigen interaktiven Informationsveranstaltung bekommen Sie VerstÃ¤ndnis fÃ
 ¼r Anforderungen\, Prozess sowie Inhalte eines ESG Reportings im Rahmen de
 r CSRD (Corporate Sustainability Reporting Directive).\n&nbsp\;\nInhalt\n*
 ) Kurzvorstellung ESG Reporting im Allgemeinen sowie Ziele/Anforderungen u
 nd Reporting-Pflicht\n*) Interaktiver Austausch mit Teilnehmer:innen zu Fr
 agestellungen rund um das ESG Reporting\n&nbsp\;\nZiele\nVerstÃ¤ndnis fÃ¼r
  Anforderungen\, Prozess sowie Inhalte eines ESG Reportings\nKennenlernen 
 von ausgewÃ¤hlten Best Practices\n
LOCATION;CHARSET=UTF-8:Online\; \n
END:VEVENT
END:VCALENDAR
