BEGIN:VCALENDAR
VERSION:2.0
PRODID:-//ZContent.net//ZapCalLib 1.0//EN
CALSCALE:GREGORIAN
METHOD:PUBLISH
BEGIN:VEVENT
DTSTART:20251014T090000
DTEND:20251014T100000
SUMMARY;CHARSET=UTF-8:Enterprise Europe Network-Webinarreihe 2025: Nachhalt
 igkeit als Erfolgsfaktor fÃ¼r Ihr KMU
URL:https://www.sfg.at/e/enterprise-europe-network-webinarreihe-2025-nachha
 ltigkeit-als-erfolgsfaktor-fuer-ihr-kmu/
DESCRIPTION;CHARSET=UTF-8:Mit Weitblick wirtschaften.\nDie diesjÃ¤hrige Web
 inarreihe des Enterprise Europe Network Ã–sterreich bietet von 24.9. bis 2
 2.10. wÃ¶chentlich neue Themen. \n\nSie mÃ¶chten wissen\, welche Dimension
 en der Nachhaltigkeit es gibt und welche Regularien fÃ¼r Unternehmen gelte
 n? Sie wollen verstehen\, wie die einzelnen Vorgaben und Gesetze zusammenh
 Ã¤ngen und wie sie sich auf KMU auswirken? Dann profitieren Sie von unsere
 r praxisnahen Zusammenfassung Ã¼ber betriebliche Nachhaltigkeit. Als Teil 
 der Webinar-Reihe prÃ¤sentiert Ihnen das Enterprise Europe Network wertvol
 le Einblicke in aktuelle EU-Nachhaltigkeitsanforderungen\, die speziell kl
 eine und mittlere Unternehmen (KMU) betreffen. Wir sprechen Ã¼ber Regulari
 en und ihre Auswirkungen und Chancen fÃ¼r KMU.\nVortragende:\n* Nicole Lah
 er | Enterprise Europe Network | Business Upper Austria\n* Christian Weiss
 bacher | Enterprise Europe Network | Standortagentur Tirol\n&nbsp\;\nVersÃ
 ¤umen Sie nicht das letzte Webinar fÃ¼r Ihren wirtschaftlichen Erfolg:\n\n
 \n\n\n\n\nFÃ¶rderungen fÃ¼r Forschung &amp\; InnovationÂ | 22.10.2025\n\n\
 n\nDie Teilnahme ist kostenlos.\nMelden Sie sich gleich an und sichern Sie
  sich Ihren Platz in der &#8222\;ersten Reihe&#8220\;.\nWeitere Infos und 
 Anmeldelinks zu den anderen Webinaren finden Sie hier.\n
LOCATION;CHARSET=UTF-8:ONLINE\; \n
END:VEVENT
END:VCALENDAR
