BEGIN:VCALENDAR
VERSION:2.0
PRODID:-//ZContent.net//ZapCalLib 1.0//EN
CALSCALE:GREGORIAN
METHOD:PUBLISH
BEGIN:VEVENT
DTSTART:20241002T090000
DTEND:20241002T200000
SUMMARY;CHARSET=UTF-8:EBSCON4Curiosity
URL:https://www.sfg.at/e/ebscon-2024/
DESCRIPTION;CHARSET=UTF-8:Building Bridges for Tomorrow\nEBSCON4Curiosity: 
 Explore the future of microelectronics on October 2nd in Graz!\n\nOctober 
 2nd\, 2024 | Messecongress Nord\, Messeplatz 1\, 8010 Graz\nBe inspired by
  this year&#8217\;s EBS Conference! Under the motto EBSCON4Curiosity\, we 
 invite you to an exciting all-day event where we want to look far beyond m
 icroelectronics and awaken the spirit of discovery in us.\nOur aim is to i
 nspire young pioneers in particular for our industry. That&#8217\;s why we
  offer interactive BarCamps focussing on mobility/automotive\, chemistry/m
 aterials and the promotion of young pioneers (students\, pupils).\nExpect 
 around 300 participants from Austria and all over the world! In order to b
 uild an international bridge\, the event will be held in English.\nSILICON
  ALPS\, as the proud organiser of EBSCON\, is the central cluster organisa
 tion for high-tech &amp\; microelectronics in the south of Austria. Our mi
 ssion is to strengthen national and international networks\, increase the 
 visibility of our region and provide new impulses for co-operations and pr
 ojects.\n Be curious &#8211\; we look forward to meeting you!\nREGISTRATI
 ON: Registration | EBSCON 2024\nAGENDA &amp\; SPEAKERS: Program | EBSCON 2
 024\n&nbsp\;\n
LOCATION;CHARSET=UTF-8:Messe Congress Graz\; \nMesseplatz 1\, 8010 Graz
END:VEVENT
END:VCALENDAR
