BEGIN:VCALENDAR
VERSION:2.0
PRODID:-//ZContent.net//ZapCalLib 1.0//EN
CALSCALE:GREGORIAN
METHOD:PUBLISH
BEGIN:VEVENT
DTSTART:20231122T140000
DTEND:20231122T153000
SUMMARY;CHARSET=UTF-8:Digitale Tools für das Monitoring von solarthermisch
 en Großanlagen – Follow-up Q&A Workshop
URL:https://www.sfg.at/e/digitale-tools-fuer-das-monitoring-von-solarthermi
 schen-grossanlagen-follow-up-qa-workshop/
DESCRIPTION;CHARSET=UTF-8:\nFollow-up Q&amp\;A Workshop zum Präsenz-Worksh
 op „Digitale Tools für das Monitoring von solarthermischen Großanlagen
 “ vom 19.10.2023\n\nBeschreibung\nIn dieser Veranstaltung werden Fragen\
 , die sich durch die Verwendung des Handbuchs „Digital Tools for Solar T
 hermal Plant Monitoring“ in der Praxis und der Anwendung des im Präsenz
 -Workshop vorgestellten Software-Tools ergeben\, adressiert.\n&nbsp\;\nInh
 alt\n\nUpdate zur Weiterentwicklung des Handbuchs\nErfahrungsaustausch / Q
 &amp\;A Session zur Anwendung des Software-Tools auf eigene Anlagen\n\n&nb
 sp\;\nZiele\nAnlagenbetreiber:innen sollen in konkreten Fragenstellungen\,
  die sich durch die eigene Anwendung von softwaregestützten Monitoring-To
 ols von solarthermischen Großanlagen ergeben\, unterstützt werden.\n&nbs
 p\;\n
LOCATION;CHARSET=UTF-8:AEE Intec\; \nonline\,
END:VEVENT
END:VCALENDAR
