BEGIN:VCALENDAR
VERSION:2.0
PRODID:-//ZContent.net//ZapCalLib 1.0//EN
CALSCALE:GREGORIAN
METHOD:PUBLISH
BEGIN:VEVENT
DTSTART:20240507T090000
DTEND:20240508T190000
SUMMARY;CHARSET=UTF-8:dHealth 24
URL:https://www.sfg.at/e/dhealth-24/
DESCRIPTION;CHARSET=UTF-8:dHealth 2024\nSeit 2007 zieht die dHealth-Konfere
 nzserie\, früher bekannt als eHealth-Konferenz\, mehr als 300 Teilnehmend
 e aus der Akademie\, Industrie\, Regierung und Gesundheitsorganisationen a
 n....\n\n&#8230\;. Unter dem Motto “Gesundheitsinformatik trifft digital
 e Gesundheit” bietet die Veranstaltung eine Plattform für Forscher\, Pr
 aktiker\, Entscheidungsträger und Anbieter\, um innovative Gesundheitsinf
 ormatik- und dHealth-Lösungen zu diskutieren. Der Fokus liegt darauf\, di
 e Qualität und Effizienz der Gesundheitsversorgung zu verbessern. Das All
 einstellungsmerkmal dieser Veranstaltung liegt darin\, dass Forschung und 
 Anwendung gleichberechtigt sind und neue Erkenntnisse sowohl aus wissensch
 aftlicher als auch praktischer Sicht bieten\n&nbsp\;\nClustermitglieder er
 halten eine Ermäßigung auf den Eintrittspreis:\n425\,-/525\,- anstatt 1.
 080\,-/1.255\,- (Frühbucher/Normalpreis)\nBitte bei der Registrierung als
  „Member of a Hospital or other medical facility“ angeben.  \nweite
 re Infos: https://www.humantechnology.at/event/dhealth-24/\n&nbsp\;\n&nbsp
 \;\n&nbsp\;\n
LOCATION;CHARSET=UTF-8:Apothekertrakt / Schönbrunn Palace\, Vienna\, Austr
 ia\; \n Wien
END:VEVENT
END:VCALENDAR
