BEGIN:VCALENDAR
VERSION:2.0
PRODID:-//ZContent.net//ZapCalLib 1.0//EN
CALSCALE:GREGORIAN
METHOD:PUBLISH
BEGIN:VEVENT
DTSTART:20221130T150000
DTEND:20221130T210000
SUMMARY;CHARSET=UTF-8:Data Science für Start-Ups
URL:https://www.sfg.at/e/data-science-fuer-start-ups/
DESCRIPTION;CHARSET=UTF-8:\nInitiale Überlegungen zur Datenerfassungen kö
 nnen langfristig zu qualitativ hochwertigen Auswertungen führen bzw. den 
 produktiven Einsatz von verschiedenen Data Science Aktivitäten erhöhen. 
 Wir beraten Start-Ups bei diesen initalen Fragestellungen.\n\n&#8211\; Ori
 entiert sich grundsärtzlich an den Bedürfnissen der Teilnehmer\,\n&#8211
 \; Vorstellungd er Möglichkeiten von Data Science für Start-Ups\,\n&#821
 1\; Einführung in Programmierung/Vorstellung relevanter Software\,\n&#821
 1\; Diskussion von Use Cases\,\n&#8211\; Unterstützung bei Problemmodelli
 erung\, Identifizierung KI-Einsatz-Potential.\n
LOCATION;CHARSET=UTF-8:FH JOANNEUM\; \nEckertstraße 30i\, 8020 Graz
END:VEVENT
END:VCALENDAR
