BEGIN:VCALENDAR
VERSION:2.0
PRODID:-//ZContent.net//ZapCalLib 1.0//EN
CALSCALE:GREGORIAN
METHOD:PUBLISH
BEGIN:VEVENT
DTSTART:20221124T143000
DTEND:20221124T163000
SUMMARY;CHARSET=UTF-8:Betriebs-Insights pewag engineering
URL:https://www.sfg.at/e/company-insights-pewag-engineering/
DESCRIPTION;CHARSET=UTF-8:\nSmarte Automatisierung in der datenbasierten Ke
 ttenproduktion - Griff aus der Kiste (Bin-Picking) als Fallbeispiel\n\npew
 ag engineering gibt in Kooperation mit dem Verein Netzwerk Logistik (VNL) 
 und dem ACstyria Mobilitätscluster einen Einblick in die intelligente Aut
 omatisierung der Fertigung. \n \nErleben Sie die Transformation einer tra
 ditionellen Fertigung hin zur datenbasierten Produktion anhand der Kettenf
 ertigung der pewag austria und bekommen Sie einen Einblick in die smarte A
 utomatisierungslösung „Bin Picking“.  \n\nErfahren Sie\, was die Tra
 nsformation für das Unternehmen bedeutet und wo die Herausforderungen und
  Erfolgsfaktoren liegen.  \n\nDie FH Joanneum steuert einen breiteren Üb
 erblick zum Thema Automatisierung und Digitalisierung bei und zeigt\, wie 
 Erfahrungen im Smart Production Lab aufgebaut werden. Wobei Smart bedeutet
 : unmittelbare Wirkung\, einfache Umsetzbarkeit und schneller Return on In
 vestment.\n \nDie Teilnahme an diesem Event ist für ACstyria und VNL Par
 tner kostenlos. Für Nicht-Partnerunternehmen wird eine Teilnahmegebüh
 r in Höhe von € 100\,00 verrechnet. Sämtliche zum Zeitpunkt der Veran
 staltung gültigen Corona-Maßnahmen werden eingehalten. Bitte beachten Si
 e\, dass bei einer nicht erfolgten Abmeldung bis 2 Werktage vor der Verans
 taltung ein Unkostenbeitrag von € 90\,00 verrechnet wird. \n
LOCATION;CHARSET=UTF-8:pewag engineering GmbH\; \nMariazeller Straße 143\,
  8605 Kapfenberg
END:VEVENT
END:VCALENDAR
