BEGIN:VCALENDAR
VERSION:2.0
PRODID:-//ZContent.net//ZapCalLib 1.0//EN
CALSCALE:GREGORIAN
METHOD:PUBLISH
BEGIN:VEVENT
DTSTART:20241029T150000
DTEND:20241029T160000
SUMMARY;CHARSET=UTF-8:Community Nursing und Angebote für Senior:innen zum 
 guten Älterwerden
URL:https://www.sfg.at/e/community-nursing-und-angebote-fuer-seniorinnen-zu
 m-guten-aelterwerden/
DESCRIPTION;CHARSET=UTF-8:Community Nursing und Angebote für Senior:innen 
 zum guten Älterwerden\nWir gehen neue Wege in der Versorgung älterer Men
 schen.\n\nIm Rahmen der Vortragsreihe „Technik begeistert“\, die von d
 en Geriatrischen Gesundheitszentren und dem Verein AAL Zentrum Esther orga
 nisiert wird\, sprechen Expert:innen über alltagsrelevante Themen von Sen
 ior:innen und ihren Angehörigen. Zudem werden Technologien vorgestellt\, 
 die ein selbstbestimmtes und selbstständiges Leben zu Hause unterstützen
 .\nVortragende: Melanie Koch\, Sozialamt der Stadt Graz\nAnmeldungen bitt
 e per E-Mail oder WhatsApp (0681 817 941 04) bis möglichst bis 2 Tage v
 or der Veranstaltung!\nAlle Veranstaltung können kostenlos besucht werden
 !\n&nbsp\;\n
LOCATION;CHARSET=UTF-8:Haus Esther (vis a vis Albert Schweitzer Klinik) Sem
 inarraum im 3.OG \; \nBethlehemgasse 6\,\, 8020 Graz
END:VEVENT
END:VCALENDAR
