BEGIN:VCALENDAR
VERSION:2.0
PRODID:-//ZContent.net//ZapCalLib 1.0//EN
CALSCALE:GREGORIAN
METHOD:PUBLISH
BEGIN:VEVENT
DTSTART:20240423T150000
DTEND:20240423T160000
SUMMARY;CHARSET=UTF-8:Closing the Loop: Embracing Circularity for a Sustain
 able Future
URL:https://www.sfg.at/e/closing-the-loop-embracing-circularity-for-a-susta
 inable-future/
DESCRIPTION;CHARSET=UTF-8:\nCome and join this inspiring spotlight webinar 
 to explore innovative solutions that contribute to making our economy more
  sustainable. With all the opportunities\, risks and difficulties that rea
 lity has to offer.\n\nThe circular economy is an increasingly important to
 pic in our global society. In the fashion and food industries\, we can mak
 e significant strides by introducing circular practices. This event will b
 ring together experts\, entrepreneurs\, and enthusiasts to discuss best pr
 actices\, challenges\, and opportunities for sustainable development. The 
 event takes place as part of the EU project Fashion&amp\;Food4Suytainabili
 ty. In just one hour\, the most important findings from economic reality a
 nd scientific theory are presented. So only relevant and compact knowledge
  awaits you.\nAgenda:\n\nWelcome and Introduction to the Erasmus+ Project 
 “Fashion&amp\;Food4Suytainability”\n\n\nMethods and Myths presented by
  the Austrian research-related consulting company “ConPlusUltra” &#821
 1\; Ms. Sandra Gottschall\nAustrian Fashion Company “STOAK” and  “G
 rumpyscampi”- Mr. Oliver Ortis\nFireside chat with Academia by Silvia Pe
 rez from the Spanish University of Navarra\nClosing &amp\; Final Remarks\
 n\nParticipation in the event is free. Just register on the right-hand sid
 e or access the event directly via MS-Teams link.\nJoin the meeting now\n
LOCATION;CHARSET=UTF-8:
END:VEVENT
END:VCALENDAR
