BEGIN:VCALENDAR
VERSION:2.0
PRODID:-//ZContent.net//ZapCalLib 1.0//EN
CALSCALE:GREGORIAN
METHOD:PUBLISH
BEGIN:VEVENT
DTSTART:20221123T100000
DTEND:20221124T160000
SUMMARY;CHARSET=UTF-8:B2B-Gespräche @GO CIRCULAR Conference Nordmazedonien
  2022
URL:https://www.sfg.at/e/b2b-gespraeche-go-circular-conference-nordmazedoni
 en-2022/
DESCRIPTION;CHARSET=UTF-8:\n– Diskutieren Sie mit internationalen Unterne
 hmen\, Forschern und Stakeholdern über die Kreislaufwirtschaft und die Ve
 ränderung von bisherigen Wirtschaftssystemen.\n\nDie Youth Entrepreneuria
 l Service Foundation veranstaltet\, in Zusammenarbeit mit dem Enterprise E
 urope Network (EEN)\, eine hochrangige Konferenz mit internationalen Vortr
 agenden sowie mit der Möglichkeit eines anschließenden B2B Online &#8211
 \; Networking.\nDie Themen der Konferenz sind unter anderem:\n\nEntwicklun
 gen der Kreislaufwirtschaft am Westbalkan\nErfolgsgeschichten europäische
 r Projekte im Bereich Kreislaufwirtschaft\nEinblicke in die verschiedenen 
 Geschäftsmodelle und in die Kreislaufwirtschaft verschiedener Branchen\nF
 ördermöglichkeiten und Werkzeuge für Innovationsprojekte\n\nDie Veranst
 altung wird als hybrides Format umgesetzt: Das gesamte Programm findet sow
 ohl in den Räumlichkeiten des DoubleTree by Hilton Skopje als auch auf de
 r Online-Eventplattform statt. Alles\, was Sie für die virtuelle Teilnahm
 e brauchen\, ist ein PC oder ein mobiles Gerät &#8211\; und schon kann es
  losgehen! Es wird keine zusätzliche Software benötigt. Sie sollten ledi
 glich darauf achten\, dass Ihr Webbrowser auf dem aktuellsten Stand ist un
 d Sie ein Headset sowie eine Webcam zur Verfügung haben.\n
LOCATION;CHARSET=UTF-8:DoubleTree by Hilton Skopje \; \n Skopje\, Normazedo
 nien
END:VEVENT
END:VCALENDAR
