BEGIN:VCALENDAR
VERSION:2.0
PRODID:-//ZContent.net//ZapCalLib 1.0//EN
CALSCALE:GREGORIAN
METHOD:PUBLISH
BEGIN:VEVENT
DTSTART:20241126T170000
DTEND:20241126T200000
SUMMARY;CHARSET=UTF-8:114. Digitaldialog: Circular Economy im Zusammenhang 
 mit IT
URL:https://www.sfg.at/e/114-digitaldialog-circular-economy-im-zusammenhang
 -mit-it/
DESCRIPTION;CHARSET=UTF-8:\n114. Digitaldialog: Circular Economy im Zusamme
 nhang mit IT\n\nVeranstaltungsinfo\nDer Digitaldialog ist eine Veranstaltu
 ngsreihe des Silicon Alps Clusters\, die in Kooperation mit folgenden Part
 nern durchgeführt wird: Joanneum Research\, FH Campus 02\, IT Community S
 tyria und FH Kärnten. Die Reihe wurde 2011 initiiert und gilt als nationa
 le Pflichtveranstaltung im Bereich der digitalen Technologien und Medien. 
 Bei der Veranstaltung geben renommierte Technologieexperten – aus Wirtsc
 haft\, Wissenschaft und Ausbildung – Einblicke in ihre Bereiche. Der abs
 chließende Dialog bietet den Besuchern die Möglichkeit\, mit ihnen zu di
 skutieren\, sich zu vernetzen und Chancen einer Zusammenarbeit zu besprech
 en.\nProgramm\ncoming soon\nPartner\nDer Digitaldialog ist eine Veranstalt
 ungsreihe des Silicon Alps Clusters\, die in Kooperation mit folgenden Par
 tnern durchgeführt wird:\n\n
LOCATION;CHARSET=UTF-8:
END:VEVENT
END:VCALENDAR
