BEGIN:VCALENDAR
VERSION:2.0
PRODID:-//ZContent.net//ZapCalLib 1.0//EN
CALSCALE:GREGORIAN
METHOD:PUBLISH
BEGIN:VEVENT
DTSTART:20231130T170000
DTEND:20231130T200000
SUMMARY;CHARSET=UTF-8:105. Digitaldialog + Decrypting Cyber Security â€“ Te
 il 3 von 5
URL:https://www.sfg.at/e/105-digitaldialog-der-klimawandel-und-seine-auswir
 kungen-digital-betrachtet/
DESCRIPTION;CHARSET=UTF-8:\n105. Digitaldialog + Decrypting Cyber Security 
 - Teil 3 von 5\n\nVeranstaltungsinfo\nDieÂ JOANNEUM RESEARCHÂ und derÂ SIL
 ICON ALPS CLUSTERÂ organisieren in Kooperation mit der Veranstaltungsreihe
  Digitaldialog eine Veranstaltung mit dem Fokus aufÂ â€žOperational Techno
 logy (OT) Securityâ€œ.Â \nIm Rahmen der Veranstaltung widmen wir uns demÂ 
 Thema â€žOperational Technology (OT) Securityâ€œ.Â Die Verwundbarkeit von 
 operativer Technologie in kritischen Infrastrukturen und die IT-Absicherun
 g von Operational Technology (OT) stehen im Mittelpunkt der Veranstaltung 
 bei der auch praktische Einblicke und Sichtweisen zum Thema Cyber Security
  vermittelt werden sollen. Die Vortragenden werden einen praktischen Einbl
 ick in das jeweilige Themenfeld geben und anschlieÃŸend haben die Teilnehm
 er ausreichend MÃ¶glichkeit Fragen direkt mit den Experten zu diskutieren.
 \nDecrypting Cyber SecurityÂ ist eine Veranstaltungsreihe desÂ SILICON ALP
 S CLUSTERSÂ und derÂ JOANNEUM RESEARCH.\nDie Idee der Reihe wurde Ende 202
 2 mit einer Kooperation gestartet und initiiert und im 2. Halbjahr 2023 un
 ter dem Namen â€žDecrypting Cyber Securityâ€œ neuerlich aufgelegt.\nBei de
 n Veranstaltungen geben renommierte Experten:innen aus den Bereichen Ã¶ffe
 ntlicher Verwaltung\, Wirtschaft\, Wissenschaft und Ausbildung Einblicke i
 n Ihre Arbeitsbereiche zum Thema Cyber Security.\nIm Rahmen der Veranstalt
 ungen werden sowohl VortrÃ¤ge und Impulsstatements zu fachspezifischen The
 men aber auch â€žhands-onâ€œ Workshops organisiert und angeboten\, um den 
 Teilnehmern auch einen praktischen Zugang zum Thema Cyber Security zu ermÃ
 ¶glichen.\nWir mÃ¶chten gemeinsam die Bedeutung des Themas Cyber Security 
 in den Vordergrund stellen und bieten daher diese Veranstaltungsreihe an\,
  um Awareness fÃ¼r das Thema zu schaffen und die gesellschaftliche Bedeutu
 ng aufzuzeigen sowie die Region SILICON ALPS und die hier vertretenen Part
 ner als Hot-Spot fÃ¼r das Thema Cyber Security regional\, national aber au
 ch international sichtbar zu machen.\nProgramm\n17.00 Uhr: ErÃ¶ffnung | Jo
 anneum Research\n17.05 Uhr: VortrÃ¤ge\n\nDie Verwundbarkeit von operativer
  Technologie in kritischen Infrastrukturen | Matthias RÃ¼ther\,Â  Â  Â  Â 
  Â  Â  Â  Â  Â  Â  Â  Â  Â  Â  Â  Â  Â  Â  Â Joanneum Research\nPractical 
 Cyber Security | Michael Gebetsroither\, mgIT GmbH\nOperational Technology
  (OT) Security â€“ how to start | Martin Lampel\, K-Businesscom AG\n\n18.2
 0 Uhr: Podiumsdiskussion\n
LOCATION;CHARSET=UTF-8:
END:VEVENT
END:VCALENDAR
